BEGIN:VCALENDAR
VERSION:2.0
PRODID:-//AudioTheme 2.3.8
BEGIN:VEVENT
UID:urn:uuid:1b58c3a9-fdf0-476c-8863-c73421a24b00
URL:https://www.streetheart.ca/gigs/gig-2014/
DTSTART;TZID=GMT:20260205T223000
SUMMARY:Mary Brown's Centre
DESCRIPTION:Getting ready to kick od Streetheart's 50th Anniversary in grand style along with our friends Trooper and Kim Mitchell! What a great start to 2026!
LOCATION:Mary Brown's Centre\, 50 New Gower St\, St. John's\, NL\, A1C 1J3
END:VEVENT
END:VCALENDAR
